BEGIN:VCALENDAR
VERSION:2.0
PRODID:-//Melbourn Hub - ECPv6.7.0//NONSGML v1.0//EN
CALSCALE:GREGORIAN
METHOD:PUBLISH
X-WR-CALNAME:Melbourn Hub
X-ORIGINAL-URL:https://melbournhub.co.uk
X-WR-CALDESC:Events for Melbourn Hub
REFRESH-INTERVAL;VALUE=DURATION:PT1H
X-Robots-Tag:noindex
X-PUBLISHED-TTL:PT1H
BEGIN:VTIMEZONE
TZID:Europe/London
BEGIN:DAYLIGHT
TZOFFSETFROM:+0000
TZOFFSETTO:+0100
TZNAME:BST
DTSTART:20250330T010000
END:DAYLIGHT
BEGIN:STANDARD
TZOFFSETFROM:+0100
TZOFFSETTO:+0000
TZNAME:GMT
DTSTART:20251026T010000
END:STANDARD
END:VTIMEZONE
BEGIN:VEVENT
DTSTART;TZID=Europe/London:20250603T120000
DTEND;TZID=Europe/London:20250603T133000
DTSTAMP:20260420T013713
CREATED:20221216T221543Z
LAST-MODIFIED:20251211T105949Z
UID:10000400-1748952000-1748957400@melbournhub.co.uk
SUMMARY:Lunch Club
DESCRIPTION:Contact us on 01763 263303 for details
URL:https://melbournhub.co.uk/event/lunch-club/2025-06-03
LOCATION:Melbourn Hub\, 30 High Street\, Melbourn\, Hertfordshire\, SG8 6DZ\, United Kingdom
END:VEVENT
BEGIN:VEVENT
DTSTART;TZID=Europe/London:20250604T093000
DTEND;TZID=Europe/London:20250604T113000
DTSTAMP:20260420T013713
CREATED:20231019T084010Z
LAST-MODIFIED:20260419T171615Z
UID:10001523-1749029400-1749036600@melbournhub.co.uk
SUMMARY:Citizens Advice Walk-in Sessions
DESCRIPTION:No need to book – just drop in
URL:https://melbournhub.co.uk/event/citizens-advice-walk-in-sessions/2025-06-04
END:VEVENT
BEGIN:VEVENT
DTSTART;TZID=Europe/London:20250604T100000
DTEND;TZID=Europe/London:20250604T120000
DTSTAMP:20260420T013713
CREATED:20250130T133747Z
LAST-MODIFIED:20250613T135047Z
UID:10002912-1749031200-1749038400@melbournhub.co.uk
SUMMARY:Women in Business Networking
DESCRIPTION:The Women in Business Network (WIBN) is pleased to announce the launch of a new group for South West Cambridgeshire.  Our aim is to bring together women from a wide variety of different professions who are keen to meet likeminded women and support the development of each others businesses in a safe and supportive environment. \n\n\n\nYou can register for the next meeting here – https://wibn.co.uk/page/South-West-Cambridgeshire-Networking-Group.  For further details on WIBN membership please contact Amy Wilkes on 07516 092698 or email Amy.wilkes@wibn.co.uk.  
URL:https://melbournhub.co.uk/event/women-in-business-networking/2025-06-04
END:VEVENT
BEGIN:VEVENT
DTSTART;TZID=Europe/London:20250606T090000
DTEND;TZID=Europe/London:20250606T120000
DTSTAMP:20260420T013713
CREATED:20240229T111535Z
LAST-MODIFIED:20251211T105710Z
UID:10001876-1749200400-1749211200@melbournhub.co.uk
SUMMARY:Relate counselling
DESCRIPTION:Offering relationship\, autism relationship and personal counselling.  \n\n\n\nTo book a session\, please contact Relate on 01302 347886 or counselling@relatecambridge.org.uk – Melbourn Hub is unable to take bookings. 
URL:https://melbournhub.co.uk/event/relate-counselling/2025-06-06
END:VEVENT
BEGIN:VEVENT
DTSTART;TZID=Europe/London:20250606T100000
DTEND;TZID=Europe/London:20250606T103000
DTSTAMP:20260420T013713
CREATED:20221216T215427Z
LAST-MODIFIED:20260312T115302Z
UID:10000137-1749204000-1749205800@melbournhub.co.uk
SUMMARY:Children's Storytime for under 5s
DESCRIPTION:No need to book!
URL:https://melbournhub.co.uk/event/childrens-storytime-for-under-5s/2025-06-06
LOCATION:Melbourn Hub\, 30 High Street\, Melbourn\, Hertfordshire\, SG8 6DZ\, United Kingdom
END:VEVENT
BEGIN:VEVENT
DTSTART;TZID=Europe/London:20250607T000000
DTEND;TZID=Europe/London:20250607T235959
DTSTAMP:20260420T013713
CREATED:20250528T150352Z
LAST-MODIFIED:20250528T150354Z
UID:10003026-1749254400-1749340799@melbournhub.co.uk
SUMMARY:**Library closed**
DESCRIPTION:
URL:https://melbournhub.co.uk/event/library-closed-4
END:VEVENT
BEGIN:VEVENT
DTSTART;TZID=Europe/London:20250607T110000
DTEND;TZID=Europe/London:20250607T140000
DTSTAMP:20260420T013713
CREATED:20250602T165100Z
LAST-MODIFIED:20250602T165102Z
UID:10003027-1749294000-1749304800@melbournhub.co.uk
SUMMARY:Neighbourhood Watch Safety Awareness Event
DESCRIPTION:Neighbourhood Watch (Meldreth\, Melbourn and Bassingbourn) invite you to a free safety awareness event.  \n\n\n\nCome and find out more about keeping yourself\, your home\, your belongings and your community safe.  \n\n\n\nDrop in any time!
URL:https://melbournhub.co.uk/event/neighbourhood-watch-safety-awareness-event
END:VEVENT
END:VCALENDAR