BEGIN:VCALENDAR
VERSION:2.0
PRODID:-//Melbourn Hub - ECPv6.7.0//NONSGML v1.0//EN
CALSCALE:GREGORIAN
METHOD:PUBLISH
X-ORIGINAL-URL:https://melbournhub.co.uk
X-WR-CALDESC:Events for Melbourn Hub
REFRESH-INTERVAL;VALUE=DURATION:PT1H
X-Robots-Tag:noindex
X-PUBLISHED-TTL:PT1H
BEGIN:VTIMEZONE
TZID:Europe/London
BEGIN:DAYLIGHT
TZOFFSETFROM:+0000
TZOFFSETTO:+0100
TZNAME:BST
DTSTART:20250330T010000
END:DAYLIGHT
BEGIN:STANDARD
TZOFFSETFROM:+0100
TZOFFSETTO:+0000
TZNAME:GMT
DTSTART:20251026T010000
END:STANDARD
END:VTIMEZONE
BEGIN:VEVENT
DTSTART;TZID=Europe/London:20250526T000000
DTEND;TZID=Europe/London:20250526T235959
DTSTAMP:20260420T032422
CREATED:20250508T080809Z
LAST-MODIFIED:20250508T080811Z
UID:10003024-1748217600-1748303999@melbournhub.co.uk
SUMMARY:**Hub closed**
DESCRIPTION:
URL:https://melbournhub.co.uk/event/hub-closed-7
END:VEVENT
BEGIN:VEVENT
DTSTART;TZID=Europe/London:20250528T093000
DTEND;TZID=Europe/London:20250528T113000
DTSTAMP:20260420T032422
CREATED:20231019T084010Z
LAST-MODIFIED:20260419T171615Z
UID:10001522-1748424600-1748431800@melbournhub.co.uk
SUMMARY:Citizens Advice Walk-in Sessions
DESCRIPTION:No need to book – just drop in
URL:https://melbournhub.co.uk/event/citizens-advice-walk-in-sessions/2025-05-28
END:VEVENT
BEGIN:VEVENT
DTSTART;TZID=Europe/London:20250530T090000
DTEND;TZID=Europe/London:20250530T120000
DTSTAMP:20260420T032422
CREATED:20240229T111535Z
LAST-MODIFIED:20251211T105710Z
UID:10001875-1748595600-1748606400@melbournhub.co.uk
SUMMARY:Relate counselling
DESCRIPTION:Offering relationship\, autism relationship and personal counselling.  \n\n\n\nTo book a session\, please contact Relate on 01302 347886 or counselling@relatecambridge.org.uk – Melbourn Hub is unable to take bookings. 
URL:https://melbournhub.co.uk/event/relate-counselling/2025-05-30
END:VEVENT
BEGIN:VEVENT
DTSTART;TZID=Europe/London:20250530T100000
DTEND;TZID=Europe/London:20250530T103000
DTSTAMP:20260420T032422
CREATED:20221216T215427Z
LAST-MODIFIED:20260312T115302Z
UID:10000136-1748599200-1748601000@melbournhub.co.uk
SUMMARY:Children's Storytime for under 5s
DESCRIPTION:No need to book!
URL:https://melbournhub.co.uk/event/childrens-storytime-for-under-5s/2025-05-30
LOCATION:Melbourn Hub\, 30 High Street\, Melbourn\, Hertfordshire\, SG8 6DZ\, United Kingdom
END:VEVENT
BEGIN:VEVENT
DTSTART;TZID=Europe/London:20250531T120000
DTEND;TZID=Europe/London:20250531T140000
DTSTAMP:20260420T032422
CREATED:20250528T150302Z
LAST-MODIFIED:20250528T150304Z
UID:10003025-1748692800-1748700000@melbournhub.co.uk
SUMMARY:**Reduced library opening hours**
DESCRIPTION:
URL:https://melbournhub.co.uk/event/reduced-library-opening-hours
END:VEVENT
BEGIN:VEVENT
DTSTART;TZID=Europe/London:20250601T090000
DTEND;TZID=Europe/London:20250601T153000
DTSTAMP:20260420T032422
CREATED:20250327T114949Z
LAST-MODIFIED:20250403T081110Z
UID:10002986-1748768400-1748791800@melbournhub.co.uk
SUMMARY:Covid vaccinations
DESCRIPTION:Walk-in session for those eligible: \n\n\n\n\npeople over 75\n\n\n\nthose in care homes\n\n\n\nanyone over 6 months old with a weakened immune system. 
URL:https://melbournhub.co.uk/event/covid-vaccinations-5/2025-06-01
END:VEVENT
END:VCALENDAR