BEGIN:VCALENDAR
VERSION:2.0
PRODID:-//Melbourn Hub - ECPv6.7.0//NONSGML v1.0//EN
CALSCALE:GREGORIAN
METHOD:PUBLISH
X-WR-CALNAME:Melbourn Hub
X-ORIGINAL-URL:https://melbournhub.co.uk
X-WR-CALDESC:Events for Melbourn Hub
REFRESH-INTERVAL;VALUE=DURATION:PT1H
X-Robots-Tag:noindex
X-PUBLISHED-TTL:PT1H
BEGIN:VTIMEZONE
TZID:Europe/London
BEGIN:DAYLIGHT
TZOFFSETFROM:+0000
TZOFFSETTO:+0100
TZNAME:BST
DTSTART:20260329T010000
END:DAYLIGHT
BEGIN:STANDARD
TZOFFSETFROM:+0100
TZOFFSETTO:+0000
TZNAME:GMT
DTSTART:20261025T010000
END:STANDARD
BEGIN:DAYLIGHT
TZOFFSETFROM:+0000
TZOFFSETTO:+0100
TZNAME:BST
DTSTART:20270328T010000
END:DAYLIGHT
BEGIN:STANDARD
TZOFFSETFROM:+0100
TZOFFSETTO:+0000
TZNAME:GMT
DTSTART:20271031T010000
END:STANDARD
END:VTIMEZONE
BEGIN:VEVENT
DTSTART;TZID=Europe/London:20260714T090000
DTEND;TZID=Europe/London:20260714T120000
DTSTAMP:20260420T110857
CREATED:20251204T105212Z
LAST-MODIFIED:20251211T104939Z
UID:10004634-1784019600-1784030400@melbournhub.co.uk
SUMMARY:The Cambridge Building Society
DESCRIPTION:
URL:https://melbournhub.co.uk/event/the-cambridge-building-society-2/2026-07-14
END:VEVENT
BEGIN:VEVENT
DTSTART;TZID=Europe/London:20260721T090000
DTEND;TZID=Europe/London:20260721T120000
DTSTAMP:20260420T110857
CREATED:20251204T105212Z
LAST-MODIFIED:20251211T104939Z
UID:10004635-1784624400-1784635200@melbournhub.co.uk
SUMMARY:The Cambridge Building Society
DESCRIPTION:
URL:https://melbournhub.co.uk/event/the-cambridge-building-society-2/2026-07-21
END:VEVENT
BEGIN:VEVENT
DTSTART;TZID=Europe/London:20260728T090000
DTEND;TZID=Europe/London:20260728T120000
DTSTAMP:20260420T110857
CREATED:20251204T105212Z
LAST-MODIFIED:20251211T104939Z
UID:10004636-1785229200-1785240000@melbournhub.co.uk
SUMMARY:The Cambridge Building Society
DESCRIPTION:
URL:https://melbournhub.co.uk/event/the-cambridge-building-society-2/2026-07-28
END:VEVENT
BEGIN:VEVENT
DTSTART;TZID=Europe/London:20260804T090000
DTEND;TZID=Europe/London:20260804T120000
DTSTAMP:20260420T110857
CREATED:20251204T105212Z
LAST-MODIFIED:20251211T104939Z
UID:10004637-1785834000-1785844800@melbournhub.co.uk
SUMMARY:The Cambridge Building Society
DESCRIPTION:
URL:https://melbournhub.co.uk/event/the-cambridge-building-society-2/2026-08-04
END:VEVENT
BEGIN:VEVENT
DTSTART;TZID=Europe/London:20260811T090000
DTEND;TZID=Europe/London:20260811T120000
DTSTAMP:20260420T110857
CREATED:20251204T105212Z
LAST-MODIFIED:20251211T104939Z
UID:10004638-1786438800-1786449600@melbournhub.co.uk
SUMMARY:The Cambridge Building Society
DESCRIPTION:
URL:https://melbournhub.co.uk/event/the-cambridge-building-society-2/2026-08-11
END:VEVENT
BEGIN:VEVENT
DTSTART;TZID=Europe/London:20260818T090000
DTEND;TZID=Europe/London:20260818T120000
DTSTAMP:20260420T110857
CREATED:20251204T105212Z
LAST-MODIFIED:20251211T104939Z
UID:10004639-1787043600-1787054400@melbournhub.co.uk
SUMMARY:The Cambridge Building Society
DESCRIPTION:
URL:https://melbournhub.co.uk/event/the-cambridge-building-society-2/2026-08-18
END:VEVENT
BEGIN:VEVENT
DTSTART;TZID=Europe/London:20260825T090000
DTEND;TZID=Europe/London:20260825T120000
DTSTAMP:20260420T110857
CREATED:20251204T105212Z
LAST-MODIFIED:20251211T104939Z
UID:10004640-1787648400-1787659200@melbournhub.co.uk
SUMMARY:The Cambridge Building Society
DESCRIPTION:
URL:https://melbournhub.co.uk/event/the-cambridge-building-society-2/2026-08-25
END:VEVENT
BEGIN:VEVENT
DTSTART;TZID=Europe/London:20260901T090000
DTEND;TZID=Europe/London:20260901T120000
DTSTAMP:20260420T110857
CREATED:20251204T105212Z
LAST-MODIFIED:20251211T104939Z
UID:10004641-1788253200-1788264000@melbournhub.co.uk
SUMMARY:The Cambridge Building Society
DESCRIPTION:
URL:https://melbournhub.co.uk/event/the-cambridge-building-society-2/2026-09-01
END:VEVENT
BEGIN:VEVENT
DTSTART;TZID=Europe/London:20260908T090000
DTEND;TZID=Europe/London:20260908T120000
DTSTAMP:20260420T110857
CREATED:20251204T105212Z
LAST-MODIFIED:20251211T104939Z
UID:10004642-1788858000-1788868800@melbournhub.co.uk
SUMMARY:The Cambridge Building Society
DESCRIPTION:
URL:https://melbournhub.co.uk/event/the-cambridge-building-society-2/2026-09-08
END:VEVENT
BEGIN:VEVENT
DTSTART;TZID=Europe/London:20260915T090000
DTEND;TZID=Europe/London:20260915T120000
DTSTAMP:20260420T110857
CREATED:20251204T105212Z
LAST-MODIFIED:20251211T104939Z
UID:10004643-1789462800-1789473600@melbournhub.co.uk
SUMMARY:The Cambridge Building Society
DESCRIPTION:
URL:https://melbournhub.co.uk/event/the-cambridge-building-society-2/2026-09-15
END:VEVENT
BEGIN:VEVENT
DTSTART;TZID=Europe/London:20260922T090000
DTEND;TZID=Europe/London:20260922T120000
DTSTAMP:20260420T110857
CREATED:20251204T105212Z
LAST-MODIFIED:20251211T104939Z
UID:10004644-1790067600-1790078400@melbournhub.co.uk
SUMMARY:The Cambridge Building Society
DESCRIPTION:
URL:https://melbournhub.co.uk/event/the-cambridge-building-society-2/2026-09-22
END:VEVENT
BEGIN:VEVENT
DTSTART;TZID=Europe/London:20260929T090000
DTEND;TZID=Europe/London:20260929T120000
DTSTAMP:20260420T110857
CREATED:20251204T105212Z
LAST-MODIFIED:20251211T104939Z
UID:10004645-1790672400-1790683200@melbournhub.co.uk
SUMMARY:The Cambridge Building Society
DESCRIPTION:
URL:https://melbournhub.co.uk/event/the-cambridge-building-society-2/2026-09-29
END:VEVENT
BEGIN:VEVENT
DTSTART;TZID=Europe/London:20261006T090000
DTEND;TZID=Europe/London:20261006T120000
DTSTAMP:20260420T110857
CREATED:20251204T105212Z
LAST-MODIFIED:20251211T104939Z
UID:10004646-1791277200-1791288000@melbournhub.co.uk
SUMMARY:The Cambridge Building Society
DESCRIPTION:
URL:https://melbournhub.co.uk/event/the-cambridge-building-society-2/2026-10-06
END:VEVENT
BEGIN:VEVENT
DTSTART;TZID=Europe/London:20261013T090000
DTEND;TZID=Europe/London:20261013T120000
DTSTAMP:20260420T110857
CREATED:20251204T105212Z
LAST-MODIFIED:20251211T104939Z
UID:10004647-1791882000-1791892800@melbournhub.co.uk
SUMMARY:The Cambridge Building Society
DESCRIPTION:
URL:https://melbournhub.co.uk/event/the-cambridge-building-society-2/2026-10-13
END:VEVENT
BEGIN:VEVENT
DTSTART;TZID=Europe/London:20261020T090000
DTEND;TZID=Europe/London:20261020T120000
DTSTAMP:20260420T110857
CREATED:20251204T105212Z
LAST-MODIFIED:20251211T104939Z
UID:10004648-1792486800-1792497600@melbournhub.co.uk
SUMMARY:The Cambridge Building Society
DESCRIPTION:
URL:https://melbournhub.co.uk/event/the-cambridge-building-society-2/2026-10-20
END:VEVENT
BEGIN:VEVENT
DTSTART;TZID=Europe/London:20261027T090000
DTEND;TZID=Europe/London:20261027T120000
DTSTAMP:20260420T110857
CREATED:20251204T105212Z
LAST-MODIFIED:20251211T104939Z
UID:10004649-1793091600-1793102400@melbournhub.co.uk
SUMMARY:The Cambridge Building Society
DESCRIPTION:
URL:https://melbournhub.co.uk/event/the-cambridge-building-society-2/2026-10-27
END:VEVENT
BEGIN:VEVENT
DTSTART;TZID=Europe/London:20261103T090000
DTEND;TZID=Europe/London:20261103T120000
DTSTAMP:20260420T110857
CREATED:20251204T105212Z
LAST-MODIFIED:20251211T104939Z
UID:10004650-1793696400-1793707200@melbournhub.co.uk
SUMMARY:The Cambridge Building Society
DESCRIPTION:
URL:https://melbournhub.co.uk/event/the-cambridge-building-society-2/2026-11-03
END:VEVENT
BEGIN:VEVENT
DTSTART;TZID=Europe/London:20261110T090000
DTEND;TZID=Europe/London:20261110T120000
DTSTAMP:20260420T110857
CREATED:20251204T105212Z
LAST-MODIFIED:20251211T104939Z
UID:10004651-1794301200-1794312000@melbournhub.co.uk
SUMMARY:The Cambridge Building Society
DESCRIPTION:
URL:https://melbournhub.co.uk/event/the-cambridge-building-society-2/2026-11-10
END:VEVENT
BEGIN:VEVENT
DTSTART;TZID=Europe/London:20261117T090000
DTEND;TZID=Europe/London:20261117T120000
DTSTAMP:20260420T110857
CREATED:20251204T105212Z
LAST-MODIFIED:20251211T104939Z
UID:10004652-1794906000-1794916800@melbournhub.co.uk
SUMMARY:The Cambridge Building Society
DESCRIPTION:
URL:https://melbournhub.co.uk/event/the-cambridge-building-society-2/2026-11-17
END:VEVENT
BEGIN:VEVENT
DTSTART;TZID=Europe/London:20261124T090000
DTEND;TZID=Europe/London:20261124T120000
DTSTAMP:20260420T110857
CREATED:20251204T105212Z
LAST-MODIFIED:20251211T104939Z
UID:10004653-1795510800-1795521600@melbournhub.co.uk
SUMMARY:The Cambridge Building Society
DESCRIPTION:
URL:https://melbournhub.co.uk/event/the-cambridge-building-society-2/2026-11-24
END:VEVENT
BEGIN:VEVENT
DTSTART;TZID=Europe/London:20261201T090000
DTEND;TZID=Europe/London:20261201T120000
DTSTAMP:20260420T110857
CREATED:20251204T105212Z
LAST-MODIFIED:20251211T104939Z
UID:10004654-1796115600-1796126400@melbournhub.co.uk
SUMMARY:The Cambridge Building Society
DESCRIPTION:
URL:https://melbournhub.co.uk/event/the-cambridge-building-society-2/2026-12-01
END:VEVENT
BEGIN:VEVENT
DTSTART;TZID=Europe/London:20261208T090000
DTEND;TZID=Europe/London:20261208T120000
DTSTAMP:20260420T110857
CREATED:20251204T105212Z
LAST-MODIFIED:20251211T104939Z
UID:10004655-1796720400-1796731200@melbournhub.co.uk
SUMMARY:The Cambridge Building Society
DESCRIPTION:
URL:https://melbournhub.co.uk/event/the-cambridge-building-society-2/2026-12-08
END:VEVENT
BEGIN:VEVENT
DTSTART;TZID=Europe/London:20261215T090000
DTEND;TZID=Europe/London:20261215T120000
DTSTAMP:20260420T110857
CREATED:20251204T105212Z
LAST-MODIFIED:20251211T104939Z
UID:10004656-1797325200-1797336000@melbournhub.co.uk
SUMMARY:The Cambridge Building Society
DESCRIPTION:
URL:https://melbournhub.co.uk/event/the-cambridge-building-society-2/2026-12-15
END:VEVENT
BEGIN:VEVENT
DTSTART;TZID=Europe/London:20261222T090000
DTEND;TZID=Europe/London:20261222T120000
DTSTAMP:20260420T110857
CREATED:20251204T105212Z
LAST-MODIFIED:20251211T104939Z
UID:10004657-1797930000-1797940800@melbournhub.co.uk
SUMMARY:The Cambridge Building Society
DESCRIPTION:
URL:https://melbournhub.co.uk/event/the-cambridge-building-society-2/2026-12-22
END:VEVENT
BEGIN:VEVENT
DTSTART;TZID=Europe/London:20261229T090000
DTEND;TZID=Europe/London:20261229T120000
DTSTAMP:20260420T110857
CREATED:20251204T105212Z
LAST-MODIFIED:20251211T104939Z
UID:10004658-1798534800-1798545600@melbournhub.co.uk
SUMMARY:The Cambridge Building Society
DESCRIPTION:
URL:https://melbournhub.co.uk/event/the-cambridge-building-society-2/2026-12-29
END:VEVENT
BEGIN:VEVENT
DTSTART;TZID=Europe/London:20270105T090000
DTEND;TZID=Europe/London:20270105T120000
DTSTAMP:20260420T110857
CREATED:20251204T105212Z
LAST-MODIFIED:20251211T104939Z
UID:10004659-1799139600-1799150400@melbournhub.co.uk
SUMMARY:The Cambridge Building Society
DESCRIPTION:
URL:https://melbournhub.co.uk/event/the-cambridge-building-society-2/2027-01-05
END:VEVENT
BEGIN:VEVENT
DTSTART;TZID=Europe/London:20270112T090000
DTEND;TZID=Europe/London:20270112T120000
DTSTAMP:20260420T110857
CREATED:20251204T105212Z
LAST-MODIFIED:20251211T104939Z
UID:10004660-1799744400-1799755200@melbournhub.co.uk
SUMMARY:The Cambridge Building Society
DESCRIPTION:
URL:https://melbournhub.co.uk/event/the-cambridge-building-society-2/2027-01-12
END:VEVENT
BEGIN:VEVENT
DTSTART;TZID=Europe/London:20270119T090000
DTEND;TZID=Europe/London:20270119T120000
DTSTAMP:20260420T110857
CREATED:20251204T105212Z
LAST-MODIFIED:20251211T104939Z
UID:10004661-1800349200-1800360000@melbournhub.co.uk
SUMMARY:The Cambridge Building Society
DESCRIPTION:
URL:https://melbournhub.co.uk/event/the-cambridge-building-society-2/2027-01-19
END:VEVENT
BEGIN:VEVENT
DTSTART;TZID=Europe/London:20270126T090000
DTEND;TZID=Europe/London:20270126T120000
DTSTAMP:20260420T110857
CREATED:20251204T105212Z
LAST-MODIFIED:20251211T104939Z
UID:10004662-1800954000-1800964800@melbournhub.co.uk
SUMMARY:The Cambridge Building Society
DESCRIPTION:
URL:https://melbournhub.co.uk/event/the-cambridge-building-society-2/2027-01-26
END:VEVENT
BEGIN:VEVENT
DTSTART;TZID=Europe/London:20270202T090000
DTEND;TZID=Europe/London:20270202T120000
DTSTAMP:20260420T110857
CREATED:20251204T105212Z
LAST-MODIFIED:20251211T104939Z
UID:10004663-1801558800-1801569600@melbournhub.co.uk
SUMMARY:The Cambridge Building Society
DESCRIPTION:
URL:https://melbournhub.co.uk/event/the-cambridge-building-society-2/2027-02-02
END:VEVENT
END:VCALENDAR