BEGIN:VCALENDAR
VERSION:2.0
PRODID:-//Melbourn Hub - ECPv6.7.0//NONSGML v1.0//EN
CALSCALE:GREGORIAN
METHOD:PUBLISH
X-WR-CALNAME:Melbourn Hub
X-ORIGINAL-URL:https://melbournhub.co.uk
X-WR-CALDESC:Events for Melbourn Hub
REFRESH-INTERVAL;VALUE=DURATION:PT1H
X-Robots-Tag:noindex
X-PUBLISHED-TTL:PT1H
BEGIN:VTIMEZONE
TZID:Europe/London
BEGIN:DAYLIGHT
TZOFFSETFROM:+0000
TZOFFSETTO:+0100
TZNAME:BST
DTSTART:20260329T010000
END:DAYLIGHT
BEGIN:STANDARD
TZOFFSETFROM:+0100
TZOFFSETTO:+0000
TZNAME:GMT
DTSTART:20261025T010000
END:STANDARD
END:VTIMEZONE
BEGIN:VEVENT
DTSTART;TZID=Europe/London:20260424T190000
DTEND;TZID=Europe/London:20260424T210000
DTSTAMP:20260423T154753
CREATED:20260423T102235Z
LAST-MODIFIED:20260423T102237Z
UID:10005929-1777057200-1777064400@melbournhub.co.uk
SUMMARY:Melbourn Energy Superloop
DESCRIPTION:Come and chat about Superloop – Melbourn Energy Superloop is a proposed local energy project designed to bring affordable low-carbon heating and ultra-fast broadband to the village. Find out more by coming to chat with the team in person at the Hub.
URL:https://melbournhub.co.uk/event/melbourn-energy-superloop/2026-04-24
END:VEVENT
BEGIN:VEVENT
DTSTART;TZID=Europe/London:20260506T190000
DTEND;TZID=Europe/London:20260506T210000
DTSTAMP:20260423T154753
CREATED:20260423T102235Z
LAST-MODIFIED:20260423T102237Z
UID:10005930-1778094000-1778101200@melbournhub.co.uk
SUMMARY:Melbourn Energy Superloop
DESCRIPTION:Come and chat about Superloop – Melbourn Energy Superloop is a proposed local energy project designed to bring affordable low-carbon heating and ultra-fast broadband to the village. Find out more by coming to chat with the team in person at the Hub.
URL:https://melbournhub.co.uk/event/melbourn-energy-superloop/2026-05-06
END:VEVENT
BEGIN:VEVENT
DTSTART;TZID=Europe/London:20260528T190000
DTEND;TZID=Europe/London:20260528T210000
DTSTAMP:20260423T154753
CREATED:20260423T102235Z
LAST-MODIFIED:20260423T102237Z
UID:10005931-1779994800-1780002000@melbournhub.co.uk
SUMMARY:Melbourn Energy Superloop
DESCRIPTION:Come and chat about Superloop – Melbourn Energy Superloop is a proposed local energy project designed to bring affordable low-carbon heating and ultra-fast broadband to the village. Find out more by coming to chat with the team in person at the Hub.
URL:https://melbournhub.co.uk/event/melbourn-energy-superloop/2026-05-28
END:VEVENT
END:VCALENDAR