BEGIN:VCALENDAR
VERSION:2.0
PRODID:-//Melbourn Hub - ECPv6.7.0//NONSGML v1.0//EN
CALSCALE:GREGORIAN
METHOD:PUBLISH
X-ORIGINAL-URL:https://melbournhub.co.uk
X-WR-CALDESC:Events for Melbourn Hub
REFRESH-INTERVAL;VALUE=DURATION:PT1H
X-Robots-Tag:noindex
X-PUBLISHED-TTL:PT1H
BEGIN:VTIMEZONE
TZID:Europe/London
BEGIN:DAYLIGHT
TZOFFSETFROM:+0000
TZOFFSETTO:+0100
TZNAME:BST
DTSTART:20260329T010000
END:DAYLIGHT
BEGIN:STANDARD
TZOFFSETFROM:+0100
TZOFFSETTO:+0000
TZNAME:GMT
DTSTART:20261025T010000
END:STANDARD
END:VTIMEZONE
BEGIN:VEVENT
DTSTART;TZID=Europe/London:20261014T083000
DTEND;TZID=Europe/London:20261014T170000
DTSTAMP:20260420T140250
CREATED:20251104T184843Z
LAST-MODIFIED:20260305T110051Z
UID:10003912-1791966600-1791997200@melbournhub.co.uk
SUMMARY:Podiatrist - Lewis Slater
DESCRIPTION:Call 01763 263260 to book
URL:https://melbournhub.co.uk/event/podiatrist-lewis-slater/2026-10-14
END:VEVENT
BEGIN:VEVENT
DTSTART;TZID=Europe/London:20261014T093000
DTEND;TZID=Europe/London:20261014T113000
DTSTAMP:20260420T140250
CREATED:20231019T084010Z
LAST-MODIFIED:20260419T171615Z
UID:10001594-1791970200-1791977400@melbournhub.co.uk
SUMMARY:Citizens Advice Walk-in Sessions
DESCRIPTION:No need to book – just drop in
URL:https://melbournhub.co.uk/event/citizens-advice-walk-in-sessions/2026-10-14
END:VEVENT
END:VCALENDAR