BEGIN:VCALENDAR
VERSION:2.0
PRODID:-//Melbourn Hub - ECPv6.7.0//NONSGML v1.0//EN
CALSCALE:GREGORIAN
METHOD:PUBLISH
X-WR-CALNAME:Melbourn Hub
X-ORIGINAL-URL:https://melbournhub.co.uk
X-WR-CALDESC:Events for Melbourn Hub
REFRESH-INTERVAL;VALUE=DURATION:PT1H
X-Robots-Tag:noindex
X-PUBLISHED-TTL:PT1H
BEGIN:VTIMEZONE
TZID:Europe/London
BEGIN:DAYLIGHT
TZOFFSETFROM:+0000
TZOFFSETTO:+0100
TZNAME:BST
DTSTART:20260329T010000
END:DAYLIGHT
BEGIN:STANDARD
TZOFFSETFROM:+0100
TZOFFSETTO:+0000
TZNAME:GMT
DTSTART:20261025T010000
END:STANDARD
END:VTIMEZONE
BEGIN:VEVENT
DTSTART;TZID=Europe/London:20260108T090000
DTEND;TZID=Europe/London:20260108T120000
DTSTAMP:20260420T164100
CREATED:20251204T105318Z
LAST-MODIFIED:20251211T105417Z
UID:10004869-1767862800-1767873600@melbournhub.co.uk
SUMMARY:The Cambridge Building Society
DESCRIPTION:The Cambridge Building Society now operates out of Melbourn Hub. You’ll find us upstairs in the Dickens Room.
URL:https://melbournhub.co.uk/event/the-cambridge-building-society-3/2026-01-08
END:VEVENT
BEGIN:VEVENT
DTSTART;TZID=Europe/London:20260108T090000
DTEND;TZID=Europe/London:20260108T170000
DTSTAMP:20260420T164100
CREATED:20251002T110118Z
LAST-MODIFIED:20251211T105513Z
UID:10003401-1767862800-1767891600@melbournhub.co.uk
SUMMARY:Tim Moynihan - Osteopath
DESCRIPTION:Healthcare and advice @ The Hub  \n\n\n\nWith 35 years of experience\, Tim Moynihan (DO ND) can provide Osteopathy treatment and advice to: \n\n\n\n\nrelieve back\, neck and shoulder pain \n\n\n\nimprove mobility and posture\n\n\n\nreduce tension and stress\n\n\n\nsupport recovery after injury \n\n\n\n\nPhone 07850 409808 \n\n\n\nEmail: tim@boneclinic.co.uk
URL:https://melbournhub.co.uk/event/tim-moynihan-osteopath/2026-01-08
END:VEVENT
END:VCALENDAR