BEGIN:VCALENDAR
VERSION:2.0
PRODID:-//Melbourn Hub - ECPv6.7.0//NONSGML v1.0//EN
CALSCALE:GREGORIAN
METHOD:PUBLISH
X-ORIGINAL-URL:https://melbournhub.co.uk
X-WR-CALDESC:Events for Melbourn Hub
REFRESH-INTERVAL;VALUE=DURATION:PT1H
X-Robots-Tag:noindex
X-PUBLISHED-TTL:PT1H
BEGIN:VTIMEZONE
TZID:Europe/London
BEGIN:DAYLIGHT
TZOFFSETFROM:+0000
TZOFFSETTO:+0100
TZNAME:BST
DTSTART:20250330T010000
END:DAYLIGHT
BEGIN:STANDARD
TZOFFSETFROM:+0100
TZOFFSETTO:+0000
TZNAME:GMT
DTSTART:20251026T010000
END:STANDARD
END:VTIMEZONE
BEGIN:VEVENT
DTSTART;TZID=Europe/London:20250609T100000
DTEND;TZID=Europe/London:20250609T120000
DTSTAMP:20260420T051708
CREATED:20250123T102717Z
LAST-MODIFIED:20250123T102719Z
UID:10002851-1749463200-1749470400@melbournhub.co.uk
SUMMARY:Tea & Sign
DESCRIPTION:Practise your sign language skills with a cuppa.  \n\n\n\nFor more information\, contact Sally at bainessally@hotmail.com
URL:https://melbournhub.co.uk/event/tea-sign/2025-06-09
END:VEVENT
END:VCALENDAR